BEGIN:VCALENDAR
VERSION:2.0
PRODID:-//Welcome to JITO UK - ECPv6.15.14//NONSGML v1.0//EN
CALSCALE:GREGORIAN
METHOD:PUBLISH
X-WR-CALNAME:Welcome to JITO UK
X-ORIGINAL-URL:https://www.jitouk.org
X-WR-CALDESC:Events for Welcome to JITO UK
REFRESH-INTERVAL;VALUE=DURATION:PT1H
X-Robots-Tag:noindex
X-PUBLISHED-TTL:PT1H
BEGIN:VTIMEZONE
TZID:UTC
BEGIN:STANDARD
TZOFFSETFROM:+0000
TZOFFSETTO:+0000
TZNAME:UTC
DTSTART:20220101T000000
END:STANDARD
END:VTIMEZONE
BEGIN:VEVENT
DTSTART;TZID=UTC:20250510T150000
DTEND;TZID=UTC:20250510T150000
DTSTAMP:20260424T183726
CREATED:20250428T072045Z
LAST-MODIFIED:20250428T160723Z
UID:4582-1746889200-1746889200@www.jitouk.org
SUMMARY:Business Beyond Borders: Bridging Trade Across
DESCRIPTION:🚀 Unlock Global Growth for Your Business! 🌍 \nTeam JBN (Bhavnagar x Vapi x United Kingdom) presents an exclusive Cross-Chapter International Business Referral Meet on Zoom. \n📅 Date: 10th May\, Saturday (IST 7:30pm)\n🎯 Limited to 25 participants per chapter – rest can join as spectators! \n✨ What’s in it for you?\n🔹 30-sec Business Intro\n🔹 Share your Needs & Gives\n🔹 Breakout Rooms | Business Referrals | International Exposure \n🌟Highlights:\n🇬🇧 UK – A major export destination\n🏭 Bhavnagar – Industrial & export hub\n💊 Vapi – Known for chemical & pharma industries \n📌 Register Now:\n👉 https://forms.gle/QB8nWq116XVMDgLH6 \nLet’s grow beyond borders! 🌐\nLimited seats – Don’t miss out!
URL:https://www.jitouk.org/event/business-beyond-borders-bridging-trade-across/
ORGANIZER;CN="JITO UK":MAILTO:info@jitouk.org
END:VEVENT
BEGIN:VEVENT
DTSTART;TZID=UTC:20250426T140000
DTEND;TZID=UTC:20250426T140000
DTSTAMP:20260424T183726
CREATED:20250414T083744Z
LAST-MODIFIED:20250426T112007Z
UID:4428-1745676000-1745676000@www.jitouk.org
SUMMARY:Global Trade War & Investment
DESCRIPTION:RISKS & OPPORTUNITIES IN TRUMP TIMES \nJai Jinendra\, \nJITO UK team is pleased to invite you all to our upcoming F2F meeting on Global Trade War & Investments . \nWhen: Saturday\, 26th April 2025 from 2:00 to 6 PM \nWhere: Hatch End Suite\, Harrow Arts Centre\, 171 Uxbridge Rd\, Pinner HA5 4EA \nHIGHLIGHTS :\n– Insights on direct & indirect tax changes and new Income tax bill 2025 of India\n– Global Macro Economics & impact of trade wars & investing in this time\n– Experts’ insights on Inheritance tax planning \nGreat session offering engagement with expert panel\, open dialogue with peers and opportunity to network with refreshments. \n📅 Date: 26th April 2025\n⏰ Time: 02:00 PM – 6:00 PM\n📍 Venue: Hatch-End Suite\, Harrow Arts Centre\, 171 Uxbridge Rd\, Pinner\, London\, HA5 4EA United Kingdom
URL:https://www.jitouk.org/event/global-trade-war-investment/
LOCATION:Harrow Arts Centre\, 171 Uxbridge Rd\, Pinner\, London\, HA5 4EA\, United Kingdom
ORGANIZER;CN="JITO UK":MAILTO:info@jitouk.org
END:VEVENT
BEGIN:VEVENT
DTSTART;TZID=UTC:20250409T183000
DTEND;TZID=UTC:20250409T203000
DTSTAMP:20260424T183726
CREATED:20250322T153137Z
LAST-MODIFIED:20250409T160639Z
UID:4338-1744223400-1744230600@www.jitouk.org
SUMMARY:The Navkar Mahamantra Day
DESCRIPTION:Entire Jain community across the UK and Europe—spanning different locations and sects—has come together to celebrate Navkar Mantra Diwas on the 9th of April.  People of all religions and beliefs are welcome the chant for world peace.  \nOne world One Chant: Navkar Mahamantra \n📅 Event Details:Date: Wednesday\, 9th AprilTime Window: 6:30 PM – 8:30 PMRecommended Chanting Slot: 7:02 PM – 7:47 PM (Yes\, the numbers may seem unusual—but they all add up to 9\, a symbol of completeness and spiritual wholeness!) \n🔗 Zoom Details: Opens at 6:30 PM BSTAll online participants and community organisations will join via the same Zoom link.Meeting Link: http://tinyurl.com/NavkarUKMeeting ID: 863 0969 3989Passcode: 758447 \nYoutube Live URL: https://tinyurl.com/NavkarYT \nFor more information contact us at info@jitouk.or \n\nLocal Event Details\n\n\n\n\n																	Organisation Name\n						\n\n																	Address\n						\n\n\n\n\n\n												Jain Vishva Bharati London\n							\n\n												8 Elm Park Rd\, Pinner HA5 3LA\n							\n\n\n\n												Jain Network\n							\n\n												64-68 Colindale Avenue\, Colindale\,\nLondon\, NW9 5DR.\n							\n\n\n\n												Acharya Shri Vidyasagar Digambar Jain Charitable Trust London\, UK\n							\n\n												The Old Barn\, Bennetts Close\, Cippenham\,\nSlough\, United Kingdom\n							\n\n\n\n												Navnat Vanik Association of UK\n							\n\n												Navnat Centre\, Printing House Ln\, Hayes UB3 1AR\n							\n\n\n\n												Jain Ashram Birmingham\n							\n\n												322 Hamstead Rd\, Handsworth\, Handsworth Wood\,\nBirmingham B20 2RA\n							\n\n\n\n												Shree Digambar Jain Association\n							\n\n												1 The Broadway\, Wealdstone\,\nHarrow\,Middx\, HA3 7EH\n							\n\n\n\n												Jain Samaj Manchester\n							\n\n												Jain Samaj Manchester\n667/669 Stockport Road\, Manchester – M12 4QE\n							\n\n\n\n												Shri Kailashgiri Digambar Jain Temple\n							\n\n												Kailashgiri Digambar Jain Mandir\n99 Myrtle Rd\, Hounslow TW3 1QE\n							\n\n\n\n												Shri Vasupujya Jinalay Coventry\n							\n\n												Shri Vasupujya Jinalay Coventry CV3 3FU\n							\n\n\n\n												Jain Community\, Glasgow\n							\n\n												Online\n							\n\n\n\n												Shri Shantinath Digamber Jain Chaityalaya\, Edinburgh\n							\n\n												 23 Pincott Parkway Edinburgh EH17 8ZS\n							\n\n\n\n												Shree Navyug Jain Pragati Mandal\n							\n\n												11 Sheaveshill Avenue\nColindale London NW9 6SE\n							\n\n\n\n												Shri 1008 Mahaveer Jinalaya Manchester\n							\n\n												Shri 1008 Mahaveer Jinalaya Manchester\n10 Cottesmore Gardens\, Hale Barns\, Altrincham\, WA15 8TS\n							\n\n\n\n												Vanik Council UK\n							\n\n												Online Only\n							\n\n\n\n												Mahavir Foundation (11:30 AM  & 7:00 PM)\n							\n\n												557 Kenton Road\, Kenton\, Middlesex HA3 9RS\n							\n\n\n\n												Jain Center Leicester\n							\n\n												Online Only\n							\n\n\n\n												Oshwal Association (11:30 AM)\n							\n\n												Coopers Lane Road\, Northaw\, Hertfordshire\, EN6 4DG\n							\n\n\n\n												Jain Milan\n							\n\n												Online Only\n							\n\n\n\n												SRMD\n							\n\n												SRMD London Spiritual Centre\, Falconer Road\, Bushey WD23 3AD\n							\n\n\n\n												Veerayatan\n							\n\n												4th Harrow Scout Hall\nKenmore Avenue\nHarrow HA3 8LU.\n							\n\n\n\n												South East Jain Association\n							\n\n												Online\n							\n\n\n\n												Berkshire Jain Sangh\n							\n\n												Spencer Wood Pavilion Hall\, Spencers Wood\, Reading RG7 1DY.\n							\n\n\n\n												One Jain\n							\n\n												Online\n							\n\n\n\n												South London Navkar Group\n							\n\n												70 northey Aveneue\, Cheam Sutton SM2 7HJ\n							\n\n\n\n												JITO Ireland and Ireland Jain Samaj\n							\n\n												Cork Hindu Temple\,\nUnit 2\, Chapel Lane Row\, Ballincollig\,\nCork\, P31 XE10\n							\n\n\n\n												JITO Paris\n							\n\n												Online\n							\n\n\n\n												JITO Warsaw\n							\n\n												Online\n							\n\n\n\n												JITO Spain\n							\n\n												Online\n							\n\n\n\n												JITO Stutgart\n							\n\n												Online\n							\n\n\n\n																													\n												 Shri Shantinath Jinalay Harrow\n																				\n							\n\n																													\n												 Shri Shantinath Jinalay Harrow HA1 1SE
URL:https://www.jitouk.org/event/the-navkar-mahamantra-day/
ORGANIZER;CN="JITO UK":MAILTO:info@jitouk.org
END:VEVENT
BEGIN:VEVENT
DTSTART;TZID=UTC:20250227T203000
DTEND;TZID=UTC:20250227T220000
DTSTAMP:20260424T183726
CREATED:20250211T132716Z
LAST-MODIFIED:20250217T134359Z
UID:4311-1740688200-1740693600@www.jitouk.org
SUMMARY:Startup Kickstart: From Idea to Action
DESCRIPTION:A networking and mentoring event for early-stage startup founders and idea-stage entrepreneurs. Connect with like-minded innovators\, gain valuable insights\, and take the first steps toward turning your vision into reality. \n🗓️ Thursday\, 27th February 2025\n⏰ 8:30 PM – 10:00 PM (UK Time)\n📍 ZOOM (Online) \nRegistration Link : https://us06web.zoom.us/meeting/register/3pRBybkeRJKaPjl-iP4Orw \n💡 Why Attend?\n– Gain expert insights into various funding opportunities for startups\n– Learn from industry leaders and successful entrepreneurs\n– Interactive Q&A session to get your questions answered
URL:https://www.jitouk.org/event/startup-kickstart-from-idea-to-action/
END:VEVENT
BEGIN:VEVENT
DTSTART;TZID=UTC:20250119T140000
DTEND;TZID=UTC:20250119T183000
DTSTAMP:20260424T183726
CREATED:20241230T120144Z
LAST-MODIFIED:20250119T063033Z
UID:4021-1737295200-1737311400@www.jitouk.org
SUMMARY:Alternative Investment Opportunities & JITO UK AGM 2025
DESCRIPTION:JITO UK AGM will occur after completing session for investment opportunities and networking. Members ticket will be valid for both sessions.
URL:https://www.jitouk.org/event/agm-2025/
LOCATION:Harrow Arts Centre\, 171 Uxbridge Rd\, Pinner\, London\, HA5 4EA\, United Kingdom
ORGANIZER;CN="JITO UK":MAILTO:info@jitouk.org
END:VEVENT
BEGIN:VEVENT
DTSTART;TZID=UTC:20241207T180000
DTEND;TZID=UTC:20241207T233000
DTSTAMP:20260424T183726
CREATED:20241016T092113Z
LAST-MODIFIED:20241203T072132Z
UID:3535-1733594400-1733614200@www.jitouk.org
SUMMARY:Social Festivity 2024
DESCRIPTION: 
URL:https://www.jitouk.org/event/social2024/
LOCATION:Horizons\, 39 Whitton Rd\, London\, TW3 2DB\, United Kingdom
CATEGORIES:Social
ORGANIZER;CN="JITO UK":MAILTO:info@jitouk.org
END:VEVENT
BEGIN:VEVENT
DTSTART;TZID=UTC:20241207T143000
DTEND;TZID=UTC:20241207T173000
DTSTAMP:20260424T183726
CREATED:20241016T090650Z
LAST-MODIFIED:20241205T111900Z
UID:3531-1733581800-1733592600@www.jitouk.org
SUMMARY:Matrimony Connect - Speed Dating & High-Tea Meet
DESCRIPTION:NOTE: DATE CHANGED TO SATURDAY\, 07 DECEMBER \nREGISTRATION PROCESS:  \nSTEP 1: Purchase your event ticket from this page.  \nSTEP 2: Complete Registration form https://forms.gle/RYaZVQfghBvXSjJn9 \nSTEP 3: Send your biodata to organiser via email at matrimony@jitouk.org
URL:https://www.jitouk.org/event/matrimonynov24/
LOCATION:Horizons\, 39 Whitton Rd\, London\, TW3 2DB\, United Kingdom
CATEGORIES:Matrimonial
ORGANIZER;CN="JITO UK":MAILTO:info@jitouk.org
END:VEVENT
BEGIN:VEVENT
DTSTART;TZID=UTC:20241117T140000
DTEND;TZID=UTC:20241117T183000
DTSTAMP:20260424T183726
CREATED:20241016T090210Z
LAST-MODIFIED:20241119T125531Z
UID:3526-1731852000-1731868200@www.jitouk.org
SUMMARY:Taxation\, Savings & Smart Investing
DESCRIPTION:EVENTS SLIDES: https://drive.google.com/drive/folders/1xebPw7fSkzkQnbT2zZcaAOFxWlfVjebg?usp=sharing
URL:https://www.jitouk.org/event/taxation-savings-smart-investing/
LOCATION:Harrow Arts Centre\, 171 Uxbridge Rd\, Pinner\, London\, HA5 4EA\, United Kingdom
CATEGORIES:Members Meet
ORGANIZER;CN="JITO UK":MAILTO:info@jitouk.org
END:VEVENT
BEGIN:VEVENT
DTSTART;TZID=UTC:20241013T110000
DTEND;TZID=UTC:20241013T123000
DTSTAMP:20260424T183726
CREATED:20240816T091028Z
LAST-MODIFIED:20240816T091028Z
UID:3491-1728817200-1728822600@www.jitouk.org
SUMMARY:UK Job Search & Career Guidance (Virtual)
DESCRIPTION:Details to Follow
URL:https://www.jitouk.org/event/uk-job-search-career-guidance-virtual/
END:VEVENT
BEGIN:VEVENT
DTSTART;TZID=UTC:20240929T133000
DTEND;TZID=UTC:20240929T183000
DTSTAMP:20260424T183726
CREATED:20240816T090819Z
LAST-MODIFIED:20240916T081141Z
UID:3488-1727616600-1727634600@www.jitouk.org
SUMMARY:UK Healthcare: Challenges & Opportunities
DESCRIPTION:
URL:https://www.jitouk.org/event/healthsep24/
LOCATION:BigShots Golf – Northwick Park\, Harrow\, 280 Watford Rd\,\, Harrow\, HA1 3TZ\, United Kingdom
ORGANIZER;CN="JITO UK":MAILTO:info@jitouk.org
END:VEVENT
BEGIN:VEVENT
DTSTART;TZID=UTC:20240707T110000
DTEND;TZID=UTC:20240707T123000
DTSTAMP:20260424T183726
CREATED:20240509T091301Z
LAST-MODIFIED:20240619T181703Z
UID:3123-1720350000-1720355400@www.jitouk.org
SUMMARY:Buy-to-Let Property Investing in 2024 & Beyond
DESCRIPTION:Register Now for Zoom Details: https://bit.ly/BTLPropertyLiveEvent 
URL:https://www.jitouk.org/event/btl2024/
END:VEVENT
BEGIN:VEVENT
DTSTART;TZID=UTC:20240630T150000
DTEND;TZID=UTC:20240630T190000
DTSTAMP:20260424T183726
CREATED:20240509T091518Z
LAST-MODIFIED:20240630T120806Z
UID:3125-1719759600-1719774000@www.jitouk.org
SUMMARY:JITO UK Good to Great
DESCRIPTION:
URL:https://www.jitouk.org/event/g2g2024/
CATEGORIES:Members Meet,Social
ORGANIZER;CN="JITO UK":MAILTO:info@jitouk.org
END:VEVENT
BEGIN:VEVENT
DTSTART;TZID=UTC:20240609T150000
DTEND;TZID=UTC:20240609T180000
DTSTAMP:20260424T183726
CREATED:20240417T102552Z
LAST-MODIFIED:20240607T150546Z
UID:3098-1717945200-1717956000@www.jitouk.org
SUMMARY:JITO UK MATRIMONY CONNECT
DESCRIPTION:REGISTRATION CLOSED. ALL EVENT DETAILS SHARED WITH REGISTERED PARTICIPANTS.  \n \n  \n 
URL:https://www.jitouk.org/event/matrimonyjun24/
CATEGORIES:Matrimonial
ORGANIZER;CN="JITO UK":MAILTO:info@jitouk.org
END:VEVENT
BEGIN:VEVENT
DTSTART;TZID=UTC:20240331T100000
DTEND;TZID=UTC:20240331T130000
DTSTAMP:20260424T183726
CREATED:20240122T070120Z
LAST-MODIFIED:20240330T062450Z
UID:2602-1711879200-1711890000@www.jitouk.org
SUMMARY:AHIMSA RUN 2024 - LONDON REGENTS PARK
DESCRIPTION:ROUTE MAP: London Route Map \nStart/End Point Location:  Google Map Link \n  \n  \n 
URL:https://www.jitouk.org/event/ahimsa24london/
END:VEVENT
BEGIN:VEVENT
DTSTART;TZID=UTC:20240331T090000
DTEND;TZID=UTC:20240331T160000
DTSTAMP:20260424T183726
CREATED:20240307T071640Z
LAST-MODIFIED:20240330T212643Z
UID:2724-1711875600-1711900800@www.jitouk.org
SUMMARY:AHIMSA RUN 2024 - WATFORD CASSIOBURY PARK
DESCRIPTION:Watford Route Map – Revised \nStart/End Point Location:  Google Map Link
URL:https://www.jitouk.org/event/ahimsa24watford/
END:VEVENT
BEGIN:VEVENT
DTSTART;TZID=UTC:20240317T110000
DTEND;TZID=UTC:20240317T130000
DTSTAMP:20260424T183726
CREATED:20240314T121433Z
LAST-MODIFIED:20240314T121433Z
UID:2819-1710673200-1710680400@www.jitouk.org
SUMMARY:UK Taxation for NRIs and Investors
DESCRIPTION:ZOOM REGISTRATION LINK: www.tinyurl.com/jitoukmar24 \n \n  \n 
URL:https://www.jitouk.org/event/uk-taxation-for-nris-and-investors/
END:VEVENT
BEGIN:VEVENT
DTSTART;TZID=UTC:20240203T143000
DTEND;TZID=UTC:20240203T183000
DTSTAMP:20260424T183726
CREATED:20231016T143200Z
LAST-MODIFIED:20240116T065032Z
UID:2486-1706970600-1706985000@www.jitouk.org
SUMMARY:Growth Strategy : 2024 & Beyond
DESCRIPTION:
URL:https://www.jitouk.org/event/mmjan24/
LOCATION:OneStonegrove\, 5 Hayling Way\, Edgware\, London\, HA8 8BN\, United Kingdom
CATEGORIES:Members Meet
ORGANIZER;CN="JITO UK":MAILTO:info@jitouk.org
END:VEVENT
BEGIN:VEVENT
DTSTART;TZID=UTC:20231126T110000
DTEND;TZID=UTC:20231126T130000
DTSTAMP:20260424T183726
CREATED:20231020T061351Z
LAST-MODIFIED:20231020T061351Z
UID:2506-1700996400-1701003600@www.jitouk.org
SUMMARY:Virtual Meet - Investing in Property
DESCRIPTION:Details to follow
URL:https://www.jitouk.org/event/virtual-meet-investing-in-property/
END:VEVENT
BEGIN:VEVENT
DTSTART;TZID=UTC:20231028T180000
DTEND;TZID=UTC:20231028T235900
DTSTAMP:20260424T183726
CREATED:20230830T214832Z
LAST-MODIFIED:20231028T082625Z
UID:1900-1698516000-1698537540@www.jitouk.org
SUMMARY:Diwali Bollywood Dhamaka - Registration Closed
DESCRIPTION:
URL:https://www.jitouk.org/event/diwali/
LOCATION:Clay Oven\, 197 Ealing Rd\,\, Wembley\, Greater London\, HA0 4LW\, United Kingdom
CATEGORIES:Social
ORGANIZER;CN="JITO UK":MAILTO:info@jitouk.org
END:VEVENT
BEGIN:VEVENT
DTSTART;TZID=UTC:20230930T150000
DTEND;TZID=UTC:20230930T180000
DTSTAMP:20260424T183726
CREATED:20230830T222352Z
LAST-MODIFIED:20230929T003005Z
UID:1909-1696086000-1696096800@www.jitouk.org
SUMMARY:Members' Meet: Emerging Technologies & Business Opportunity
DESCRIPTION:
URL:https://www.jitouk.org/event/mmsep23/
LOCATION:Eurythmy Room\, Rudolf Steiner House\, 35 Park Rd\,\, London\, NW1 6XT\, United Kingdom
CATEGORIES:Members Meet
ORGANIZER;CN="JITO UK":MAILTO:info@jitouk.org
END:VEVENT
BEGIN:VEVENT
DTSTART;TZID=UTC:20230628T190000
DTEND;TZID=UTC:20230628T203000
DTSTAMP:20260424T183726
CREATED:20230830T212944Z
LAST-MODIFIED:20230830T212944Z
UID:1882-1687978800-1687984200@www.jitouk.org
SUMMARY:Fireside Chat with Ruma Devi
DESCRIPTION:
URL:https://www.jitouk.org/event/fireside-chat-with-ruma-devi/
CATEGORIES:Ladies Wing
ORGANIZER;CN="JITO UK":MAILTO:info@jitouk.org
END:VEVENT
BEGIN:VEVENT
DTSTART;TZID=UTC:20230617T140000
DTEND;TZID=UTC:20230617T173000
DTSTAMP:20260424T183726
CREATED:20230830T213136Z
LAST-MODIFIED:20230830T213438Z
UID:1892-1687010400-1687023000@www.jitouk.org
SUMMARY:Grow & Build Business with JITO UK Network
DESCRIPTION:
URL:https://www.jitouk.org/event/grow-build-business-with-jito-uk-network/
CATEGORIES:Members Meet
ORGANIZER;CN="JITO UK":MAILTO:info@jitouk.org
END:VEVENT
BEGIN:VEVENT
DTSTART;TZID=UTC:20230521T103000
DTEND;TZID=UTC:20230521T123000
DTSTAMP:20260424T183726
CREATED:20230830T213316Z
LAST-MODIFIED:20230830T213316Z
UID:1894-1684665000-1684672200@www.jitouk.org
SUMMARY:Study in UK?
DESCRIPTION:
URL:https://www.jitouk.org/event/study-in-uk/
CATEGORIES:Virtual
ORGANIZER;CN="JITO UK":MAILTO:info@jitouk.org
END:VEVENT
BEGIN:VEVENT
DTSTART;TZID=UTC:20230518T200000
DTEND;TZID=UTC:20230518T213000
DTSTAMP:20260424T183726
CREATED:20230906T123043Z
LAST-MODIFIED:20230906T123151Z
UID:2005-1684440000-1684445400@www.jitouk.org
SUMMARY:JITO UK Ladies Wing  - Meet & Greet
DESCRIPTION:
URL:https://www.jitouk.org/event/jito-uk-ladies-wing-meet-greet/
END:VEVENT
BEGIN:VEVENT
DTSTART;TZID=UTC:20230418T193000
DTEND;TZID=UTC:20230418T203000
DTSTAMP:20260424T183726
CREATED:20230830T213950Z
LAST-MODIFIED:20230830T213950Z
UID:1898-1681846200-1681849800@www.jitouk.org
SUMMARY:Global Markets - Impact of Banking Crisis & Advent of AI
DESCRIPTION:
URL:https://www.jitouk.org/event/global-markets-impact-of-banking-crisis-advent-of-ai/
CATEGORIES:Virtual
ORGANIZER;CN="JITO UK":MAILTO:info@jitouk.org
END:VEVENT
BEGIN:VEVENT
DTSTART;TZID=UTC:20230319T140000
DTEND;TZID=UTC:20230319T170000
DTSTAMP:20260424T183726
CREATED:20230830T213720Z
LAST-MODIFIED:20230830T213720Z
UID:1896-1679234400-1679245200@www.jitouk.org
SUMMARY:JITO UK Member's Meet & Networking
DESCRIPTION:
URL:https://www.jitouk.org/event/jito-uk-members-meet-networking/
CATEGORIES:Members Meet
ORGANIZER;CN="JITO UK":MAILTO:info@jitouk.org
END:VEVENT
END:VCALENDAR