BEGIN:VCALENDAR
VERSION:2.0
PRODID:-//Welcome to JITO UK - ECPv6.15.14//NONSGML v1.0//EN
CALSCALE:GREGORIAN
METHOD:PUBLISH
X-ORIGINAL-URL:https://www.jitouk.org
X-WR-CALDESC:Events for Welcome to JITO UK
REFRESH-INTERVAL;VALUE=DURATION:PT1H
X-Robots-Tag:noindex
X-PUBLISHED-TTL:PT1H
BEGIN:VTIMEZONE
TZID:UTC
BEGIN:STANDARD
TZOFFSETFROM:+0000
TZOFFSETTO:+0000
TZNAME:UTC
DTSTART:20220101T000000
END:STANDARD
END:VTIMEZONE
BEGIN:VEVENT
DTSTART;TZID=UTC:20251004T120000
DTEND;TZID=UTC:20251004T230000
DTSTAMP:20260422T201420
CREATED:20250809T093751Z
LAST-MODIFIED:20250921T153219Z
UID:5206-1759579200-1759618800@www.jitouk.org
SUMMARY:JITO UK MEGA FAIR - Powered by Diamond Heaven
DESCRIPTION:Get ready for the biggest JITO UK event of the year\n A grand celebration of business\, culture\, and community all under one roof! \n\n🏢 Business Exhibitions  (12 PM – 8 PM) – The largest showcase of Jain businesses and professionals in the UK\, featuring innovative products\, services\, and opportunities. \n💼 Business\, Trade & Investment Panel Discussions  (12 PM – 4 PM) – Gain insights from industry experts\, thought leaders\, and successful business personalities. \n🎤 Featuring Jain Talent Show  (4 PM – 8 PM)  – Witness the incredible skills\, creativity\, and artistry of the Jain community. \n💍 Matrimony (11:30 AM – 3:30 PM): Matchmaking & introductions \n🎶 Ras Garba & Dandiya  ( 7 PM Onwards) – End the evening on a high note with vibrant music\, energetic dance\, and festive spirit. \n🍽 Mini Meal (6 PM to 9 PM)  – Enjoy a delicious Jain-friendly meal as part of your event experience. \nWhether you’re an entrepreneur\, investor\, professional\, or simply looking for a cultural extravaganza\, JITO UK Mega Fair 2025 is an unmissable day of networking\, learning\, and celebrations. \n\n\n      \n        \n      \n    \n 
URL:https://www.jitouk.org/event/jito-uk-mega-fair-four-thrilling-events-under-one-roof/
LOCATION:Dhamecha Lohana Centre\, Harrow\, United Kingdom
CATEGORIES:Ladies Wing,Matrimonial,Members Meet,Social,Virtual
ORGANIZER;CN="JITO UK":MAILTO:info@jitouk.org
END:VEVENT
BEGIN:VEVENT
DTSTART;TZID=UTC:20250622T130000
DTEND;TZID=UTC:20250622T180000
DTSTAMP:20260422T201420
CREATED:20250428T144417Z
LAST-MODIFIED:20250620T051326Z
UID:4586-1750597200-1750615200@www.jitouk.org
SUMMARY:Global Virtual Matrimony Meet 2025
DESCRIPTION:Global NRI Virtual Matrimony Meet \nOpen for All Jains NRI from across the globe. Please note that the event is only for the candidates; parents or other representatives will not be allowed to attend.  \n📅 Date: 22nd June 2025\n⏰ Time: 01:00 PM – 6:00 PM (BST) 05:30 PM – 10:30 PM (IST)\n📍 Venue: Virtual Event \nThe details of the JITO Global Virtual Matrimony Meet have been sent to the email address you provided in the Prospect Google Form on Thursday\, 19th June 2025. Kindly check your inbox and junk/spam folder to find the information. If you do not receive it or have any questions\, please feel free to contact us. \nFor any other queries\, please consult our Frequently Asked Questions (FAQ) for assistance before reaching out.
URL:https://www.jitouk.org/event/global-virtual-matrimony-2025/
CATEGORIES:Virtual
ORGANIZER;CN="JITO UK Matrimony":MAILTO:matrimony@jitouk.org
END:VEVENT
BEGIN:VEVENT
DTSTART;TZID=UTC:20230521T103000
DTEND;TZID=UTC:20230521T123000
DTSTAMP:20260422T201420
CREATED:20230830T213316Z
LAST-MODIFIED:20230830T213316Z
UID:1894-1684665000-1684672200@www.jitouk.org
SUMMARY:Study in UK?
DESCRIPTION:
URL:https://www.jitouk.org/event/study-in-uk/
CATEGORIES:Virtual
ORGANIZER;CN="JITO UK":MAILTO:info@jitouk.org
END:VEVENT
BEGIN:VEVENT
DTSTART;TZID=UTC:20230418T193000
DTEND;TZID=UTC:20230418T203000
DTSTAMP:20260422T201420
CREATED:20230830T213950Z
LAST-MODIFIED:20230830T213950Z
UID:1898-1681846200-1681849800@www.jitouk.org
SUMMARY:Global Markets - Impact of Banking Crisis & Advent of AI
DESCRIPTION:
URL:https://www.jitouk.org/event/global-markets-impact-of-banking-crisis-advent-of-ai/
CATEGORIES:Virtual
ORGANIZER;CN="JITO UK":MAILTO:info@jitouk.org
END:VEVENT
END:VCALENDAR