BEGIN:VCALENDAR
VERSION:2.0
PRODID:-//Welcome to JITO UK - ECPv6.15.14//NONSGML v1.0//EN
CALSCALE:GREGORIAN
METHOD:PUBLISH
X-WR-CALNAME:Welcome to JITO UK
X-ORIGINAL-URL:https://www.jitouk.org
X-WR-CALDESC:Events for Welcome to JITO UK
REFRESH-INTERVAL;VALUE=DURATION:PT1H
X-Robots-Tag:noindex
X-PUBLISHED-TTL:PT1H
BEGIN:VTIMEZONE
TZID:UTC
BEGIN:STANDARD
TZOFFSETFROM:+0000
TZOFFSETTO:+0000
TZNAME:UTC
DTSTART:20250101T000000
END:STANDARD
END:VTIMEZONE
BEGIN:VEVENT
DTSTART;TZID=UTC:20260504T120000
DTEND;TZID=UTC:20260504T170000
DTSTAMP:20260422T135615
CREATED:20260327T133701Z
LAST-MODIFIED:20260418T082306Z
UID:5706-1777896000-1777914000@www.jitouk.org
SUMMARY:The Great Dal Bati Gathering
DESCRIPTION:Welcome to the 1st JITO UK Social Gathering of 2026! \nGuess what… it’s a little different this year — a brand new location in a beautiful countryside setting. \nUniting Jains from across the Midlands\, London\, and the North West for networking\, prosperity\, and collective empowerment. \n🗓 Date: Monday\, 4th May (Bank Holiday Monday)\n⏰ Time: 12:00 PM – 5:00 PM\n📍 Venue: Catthorpe Towers\, Lutterworth\, LE17 6DF (Exit 20\, M1)\n🍽 Authentic Dal Baati Lunch & High Tea \nLet’s come together to meet new people\, connect\, and strengthen our community bonds. \nContact Us  for SPONSORSHIP or TRADE STALL at +44 7917192371 \nSign-up for Family Introduction Ramp Walk: Click Here
URL:https://www.jitouk.org/event/tgbg2026/
LOCATION:Catthorpe Towers\, Lutterworth\, LE17 6DF\, United Kingdom
CATEGORIES:Social
ORGANIZER;CN="JITO UK":MAILTO:info@jitouk.org
END:VEVENT
END:VCALENDAR